{"text_format":"1","workbook":"xlsx","n_sheets":13,"sheets":["Instructions","Jan","Feb","Mar","April","May","June","July","Aug","Sept","Oct","Nov","Dec"],"not_rendered":{"charts":0,"images":0,"macros":0,"external_links":0,"defined_names":0,"comments":0,"pivot_tables":0},"unopened":[],"bounds":{"document_bytes":16777216,"sheet_cells":100000,"rows_first":2000,"rows_last":500,"rows_between":2000,"halvings":0,"cell_chars":16384,"cell_head_chars":4096},"cells_cut":0,"cells_raw":0,"read":"whole","date_system":"1900"}

{"sheet":"Instructions","index":0,"n_rows":12,"n_cols":1,"rows_kept":12,"cut":false,"hidden":false,"merged":[]}
["Instructions"]
[]
["Name, Address, Phone, and Email: Enter your Name, Address, Phone number, and email. (Important: If you have a change to your personal information please contact HR at (916) 886-5698 or hr@nccsda.com with your new information.)"]
[]
["Description: All employees must select a description from the drop-down menu for every day including weekends."]
[]
["Comments: If you have any notes or comments, please write them in this box."]
[]
["Requirements: All salaried 12-month educators and salaried ECEC directors must turn in Educator Monthly Reports."]
[]
["Submission: "]
["Educator Monthly Reports must be turned in on the due date specified on the upper right side of the report. Please submit your Educator Monthly Report to the Payroll department by emailing it to payroll@nccsda.com from your conference email account. "]

{"sheet":"Jan","index":1,"n_rows":53,"n_cols":9,"rows_kept":53,"cut":false,"hidden":false,"merged":[[0,0,0,5],[1,0,1,5],[2,0,2,5],[4,1,4,3],[5,1,5,3],[51,0,51,5],[52,0,52,1],[8,1,8,3],[9,1,9,3],[4,5,5,5],[44,1,44,2],[46,0,46,5],[47,0,49,5]]}
["Northern California Conference"]
["Educator Monthly Report"]
["Email to: payroll@nccsda.com     -     P.O. Box 619015, Roseville, CA 95661"]
[]
["Name:","Enter name here",null,null,null,"January 2024\nDue Febuary 3rd"]
["Address:"]
[]
["Best way to contact you:",null,null,null,null,"Revised Report"]
["Phone:"]
["Email:","Enter email here"]
["Please notify HR (916-886-5698) of any change in address or phone #"]
[]
[null,"Date","Description","Vacation Day","Sick Day"]
[null,"1 - Mon",null,{"$f":"IF(C14=\"Vacation\",1,0)","v":0},{"$f":"IF(C14=\"Sick Day\",1,0)","v":0},null,null,null,"Worked"]
[null,"2 - Tues",null,{"$f":"IF(C15=\"Vacation\",1,0)","v":0},{"$f":"IF(C15=\"Sick Day\",1,0)","v":0},null,null,null,"Day Off"]
[null,"3 - Wed",null,0,0,null,null,null,"Vacation"]
[null,"4 - Thurs",null,0,0,null,null,null,"Sick Day"]
[null,"5 - Fri",null,0,0,null,null,null,"Holiday"]
[null,"6 - Sat",null,0,0]
[null,"7 - Sun",null,0,0]
[null,"8 - Mon",null,0,0]
[null,"9 - Tues",null,0,0]
[null,"10 - Wed",null,0,0]
[null,"11 - Thurs",null,0,0]
[null,"12 - Fri",null,0,0]
[null,"13 - Sat",null,0,0]
[null,"14 - Sun",null,0,0]
[null,"15 - Mon",null,0,0]
[null,"16 - Tues",null,0,0]
[null,"17 - Wed",null,0,0]
[null,"18 - Thurs",null,0,0]
[null,"19 - Fri",null,0,0]
[null,"20 - Sat",null,0,0]
[null,"21 - Sun",null,0,0]
[null,"22 - Mon",null,0,0]
[null,"23 - Tues",null,0,0]
[null,"24 - Wed",null,0,0]
[null,"25 - Thurs",null,0,0]
[null,"26 - Fri",null,0,0]
[null,"27 - Sat",null,0,0]
[null,"28 - Sun",null,0,0]
[null,"29 - Mon",null,0,0]
[null,"30 - Tues",null,0,0]
[null,"31 - Wed",null,0,0]
[null,"TOTALS",null,{"$f":"SUM(D14:D44)","v":0},{"$f":"SUM(E14:E44)","v":0}]
[]
["Comments: "]
[]
[]
[]
[]
["OFFICE USE ONLY"]
["41000) Vacation Time",null,{"$f":"D45","v":0},"Sick Days",{"$f":"E45","v":0}]

{"sheet":"Feb","index":2,"n_rows":53,"n_cols":9,"rows_kept":53,"cut":false,"hidden":false,"merged":[[0,0,0,5],[1,0,1,5],[2,0,2,5],[4,1,4,3],[4,5,5,5],[5,1,5,3],[52,0,52,1],[8,1,8,3],[9,1,9,3],[44,1,44,2],[46,0,46,5],[47,0,49,5],[51,0,51,5]]}
["Northern California Conference"]
["Educator Monthly Report"]
["Email to: payroll@nccsda.com     -     P.O. Box 619015, Roseville, CA 95661"]
[]
["Name:",{"$f":"Jan!B5","v":"Enter name here"},null,null,null,"February 2024\nDue March 3rd"]
["Address:",{"$f":"Jan!B6","v":0}]
[]
["Best way to contact you:",null,null,null,null,"Revised Report"]
["Phone:",{"$f":"Jan!B9","v":0}]
["Email:",{"$f":"Jan!B10","v":"Enter email here"}]
["Please notify HR (916-886-5698) of any change in address or phone #"]
[]
[null,"Date","Description","Vacation Day","Sick Day"]
[null,"1 - Thurs",null,{"$f":"IF(C14=\"Vacation\",1,0)","v":0},{"$f":"IF(C14=\"Sick Day\",1,0)","v":0},null,null,null,"Worked"]
[null,"2 - Fri",null,{"$f":"IF(C15=\"Vacation\",1,0)","v":0},{"$f":"IF(C15=\"Sick Day\",1,0)","v":0},null,null,null,"Day Off"]
[null,"3 - Sat",null,0,0,null,null,null,"Vacation"]
[null,"4 - Sun",null,0,0,null,null,null,"Sick Day"]
[null,"5 - Mon",null,0,0,null,null,null,"Holiday"]
[null,"6 - Tues",null,0,0]
[null,"7 - Wed",null,0,0]
[null,"8 - Thurs",null,0,0]
[null,"9 - Fri",null,0,0]
[null,"10 - Sat",null,0,0]
[null,"11 - Sun",null,0,0]
[null,"12 - Mon",null,0,0]
[null,"13 - Tues",null,0,0]
[null,"14 - Wed",null,0,0]
[null,"15 - Thurs",null,0,0]
[null,"16 - Fri",null,0,0]
[null,"17 - Sat",null,0,0]
[null,"18 - Sun",null,0,0]
[null,"19 - Mon",null,0,0]
[null,"20 - Tues",null,0,0]
[null,"21 - Wed",null,0,0]
[null,"22 - Thurs",null,0,0]
[null,"23 - Fri",null,0,0]
[null,"24 - Sat",null,0,0]
[null,"25 - Sun",null,0,0]
[null,"26 - Mon",null,0,0]
[null,"27 - Tues",null,0,0]
[null,"28 - Wed",null,0,0]
[null,"29 - Thurs",null,0,0]
[]
[]
[null,"TOTALS",null,{"$f":"SUM(D14:D44)","v":0},{"$f":"SUM(E14:E44)","v":0}]
[]
["Comments: "]
[]
[]
[]
[]
["OFFICE USE ONLY"]
["41000) Vacation Time",null,{"$f":"D45","v":0},"Sick Days",{"$f":"E45","v":0}]

{"sheet":"Mar","index":3,"n_rows":53,"n_cols":9,"rows_kept":53,"cut":false,"hidden":false,"merged":[[0,0,0,5],[1,0,1,5],[2,0,2,5],[4,1,4,3],[4,5,5,5],[5,1,5,3],[52,0,52,1],[8,1,8,3],[9,1,9,3],[44,1,44,2],[46,0,46,5],[47,0,49,5],[51,0,51,5]]}
["Northern California Conference"]
["Educator Monthly Report"]
["Email to: payroll@nccsda.com     -     P.O. Box 619015, Roseville, CA 95661"]
[]
["Name:",{"$f":"Jan!B5","v":"Enter name here"},null,null,null,"March 2024\nDue April 3rd"]
["Address:",{"$f":"Jan!B6","v":0}]
[]
["Best way to contact you:",null,null,null,null,"Revised Report"]
["Phone:",{"$f":"Jan!B9","v":0}]
["Email:",{"$f":"Jan!B10","v":"Enter email here"}]
["Please notify HR (916-886-5698) of any change in address or phone #"]
[]
[null,"Date","Description","Vacation Day","Sick Day"]
[null,"1 - Fri",null,{"$f":"IF(C14=\"Vacation\",1,0)","v":0},{"$f":"IF(C14=\"Sick Day\",1,0)","v":0},null,null,null,"Worked"]
[null,"2 - Sat",null,{"$f":"IF(C15=\"Vacation\",1,0)","v":0},{"$f":"IF(C15=\"Sick Day\",1,0)","v":0},null,null,null,"Day Off"]
[null,"3 - Sun",null,0,0,null,null,null,"Vacation"]
[null,"4 - Mon",null,0,0,null,null,null,"Sick Day"]
[null,"5 - Tues",null,0,0,null,null,null,"Holiday"]
[null,"6 - Wed",null,0,0]
[null,"7 - Thurs",null,0,0]
[null,"8 - Fri",null,0,0]
[null,"9 - Sat",null,0,0]
[null,"10 - Sun",null,0,0]
[null,"11 - Mon",null,0,0]
[null,"12 - Tues",null,0,0]
[null,"13 - Wed",null,0,0]
[null,"14 - Thurs",null,0,0]
[null,"15 - Fri",null,0,0]
[null,"16 - Sat",null,0,0]
[null,"17 - Sun",null,0,0]
[null,"18 - Mon",null,0,0]
[null,"19 - Tues",null,0,0]
[null,"20 - Wed",null,0,0]
[null,"21 - Thurs",null,0,0]
[null,"22 - Fri",null,0,0]
[null,"23 - Sat",null,0,0]
[null,"24 - Sun",null,0,0]
[null,"25 - Mon",null,0,0]
[null,"26 - Tues",null,0,0]
[null,"27 - Wed",null,0,0]
[null,"28 - Thurs",null,0,0]
[null,"29 - Fri",null,0,0]
[null,"30 - Sat",null,0,{"$f":"IF(C43=\"Sick Day\",1,0)","v":0}]
[null,"31 - Sun",null,0,0]
[null,"TOTALS",null,{"$f":"SUM(D14:D44)","v":0},{"$f":"SUM(E14:E44)","v":0}]
[]
["Comments: "]
[]
[]
[]
[]
["OFFICE USE ONLY"]
["41000) Vacation Time",null,{"$f":"D45","v":0},"Sick Days",{"$f":"E45","v":0}]

{"sheet":"April","index":4,"n_rows":53,"n_cols":9,"rows_kept":53,"cut":false,"hidden":false,"merged":[[0,0,0,5],[1,0,1,5],[2,0,2,5],[4,1,4,3],[4,5,5,5],[5,1,5,3],[52,0,52,1],[8,1,8,3],[9,1,9,3],[44,1,44,2],[46,0,46,5],[47,0,49,5],[51,0,51,5]]}
["Northern California Conference"]
["Educator Monthly Report"]
["Email to: payroll@nccsda.com     -     P.O. Box 619015, Roseville, CA 95661"]
[]
["Name:",{"$f":"Jan!B5","v":"Enter name here"},null,null,null,"April 2024\nDue May 3rd"]
["Address:",{"$f":"Jan!B6","v":0}]
[]
["Best way to contact you:",null,null,null,null,"Revised Report"]
["Phone:",{"$f":"Jan!B9","v":0}]
["Email:",{"$f":"Jan!B10","v":"Enter email here"}]
["Please notify HR (916-886-5698) of any change in address or phone #"]
[]
[null,"Date","Description","Vacation Day","Sick Day"]
[null,"1 - Mon",null,{"$f":"IF(C14=\"Vacation\",1,0)","v":0},{"$f":"IF(C14=\"Sick Day\",1,0)","v":0},null,null,null,"Worked"]
[null,"2 - Tues",null,{"$f":"IF(C15=\"Vacation\",1,0)","v":0},{"$f":"IF(C15=\"Sick Day\",1,0)","v":0},null,null,null,"Day Off"]
[null,"3 - Wed",null,0,0,null,null,null,"Vacation"]
[null,"4 - Thurs",null,0,0,null,null,null,"Sick Day"]
[null,"5 - Fri",null,0,0,null,null,null,"Holiday"]
[null,"6 - Sat",null,0,0]
[null,"7 - Sun",null,0,0]
[null,"8 - Mon",null,0,0]
[null,"9 - Tues",null,0,0]
[null,"10 - Wed",null,0,0]
[null,"11 - Thurs",null,0,0]
[null,"12 - Fri",null,0,0]
[null,"13 - Sat",null,0,0]
[null,"14 - Sun",null,0,0]
[null,"15 - Mon",null,0,0]
[null,"16 - Tues",null,0,0]
[null,"17 - Wed",null,0,0]
[null,"18 - Thurs",null,0,0]
[null,"19 - Fri",null,0,0]
[null,"20 - Sat",null,0,0]
[null,"21 - Sun",null,0,0]
[null,"22 - Mon",null,0,0]
[null,"23 - Tues",null,0,0]
[null,"24 - Wed",null,0,0]
[null,"25 - Thurs",null,0,0]
[null,"26 - Fri",null,0,0]
[null,"27 - Sat",null,0,0]
[null,"28 - Sun",null,0,0]
[null,"29 - Mon",null,0,0]
[null,"30 - Tues",null,0,0]
[]
[null,"TOTALS",null,{"$f":"SUM(D14:D44)","v":0},{"$f":"SUM(E14:E44)","v":0}]
[]
["Comments: "]
[]
[]
[]
[]
["OFFICE USE ONLY"]
["41000) Vacation Time",null,{"$f":"D45","v":0},"Sick Days",{"$f":"E45","v":0}]

{"sheet":"May","index":5,"n_rows":53,"n_cols":9,"rows_kept":53,"cut":false,"hidden":false,"merged":[[0,0,0,5],[1,0,1,5],[2,0,2,5],[4,1,4,3],[4,5,5,5],[5,1,5,3],[52,0,52,1],[8,1,8,3],[9,1,9,3],[44,1,44,2],[46,0,46,5],[47,0,49,5],[51,0,51,5]]}
["Northern California Conference"]
["Educator Monthly Report"]
["Email to: payroll@nccsda.com     -     P.O. Box 619015, Roseville, CA 95661"]
[]
["Name:",{"$f":"Jan!B5","v":"Enter name here"},null,null,null,"May 2024\nDue June 3rd"]
["Address:",{"$f":"Jan!B6","v":0}]
[]
["Best way to contact you:",null,null,null,null,"Revised Report"]
["Phone:",{"$f":"Jan!B9","v":0}]
["Email:",{"$f":"Jan!B10","v":"Enter email here"}]
["Please notify HR (916-886-5698) of any change in address or phone #"]
[]
[null,"Date","Description","Vacation Day","Sick Day"]
[null,"1 - Wed",null,{"$f":"IF(C14=\"Vacation\",1,0)","v":0},{"$f":"IF(C14=\"Sick Day\",1,0)","v":0},null,null,null,"Worked"]
[null,"2 - Thurs",null,{"$f":"IF(C15=\"Vacation\",1,0)","v":0},{"$f":"IF(C15=\"Sick Day\",1,0)","v":0},null,null,null,"Day Off"]
[null,"3 - Fri",null,0,0,null,null,null,"Vacation"]
[null,"4 - Sat",null,0,0,null,null,null,"Sick Day"]
[null,"5 - Sun",null,0,0,null,null,null,"Holiday"]
[null,"6 - Mon",null,0,0]
[null,"7 - Tues",null,0,0]
[null,"8 - Wed",null,0,0]
[null,"9 - Thurs",null,0,0]
[null,"10 - Fri",null,0,0]
[null,"11 - Sat",null,0,0]
[null,"12 - Sun",null,0,0]
[null,"13 - Mon",null,0,0]
[null,"14 - Tues",null,0,0]
[null,"15 - Wed",null,0,0]
[null,"16 - Thurs",null,0,0]
[null,"17 - Fri",null,0,0]
[null,"18 - Sat",null,0,0]
[null,"19 - Sun",null,0,0]
[null,"20 - Mon",null,0,0]
[null,"21 - Tues",null,0,0]
[null,"22 - Wed",null,0,0]
[null,"23 - Thurs",null,0,0]
[null,"24 - Fri",null,0,0]
[null,"25 - Sat",null,0,0]
[null,"26 - Sun",null,0,0]
[null,"27 - Mon",null,0,0]
[null,"28 - Tues",null,0,0]
[null,"29 - Wed",null,0,0]
[null,"30 - Thurs",null,0,0]
[null,"31 - Fri",null,0,{"$f":"IF(C44=\"Sick Day\",1,0)","v":0}]
[null,"TOTALS",null,{"$f":"SUM(D14:D44)","v":0},{"$f":"SUM(E14:E44)","v":0}]
[]
["Comments: "]
[]
[]
[]
[]
["OFFICE USE ONLY"]
["41000) Vacation Time",null,{"$f":"D45","v":0},"Sick Days",{"$f":"E45","v":0}]

{"sheet":"June","index":6,"n_rows":53,"n_cols":9,"rows_kept":53,"cut":false,"hidden":false,"merged":[[0,0,0,5],[1,0,1,5],[2,0,2,5],[4,1,4,3],[4,5,5,5],[5,1,5,3],[52,0,52,1],[8,1,8,3],[9,1,9,3],[44,1,44,2],[46,0,46,5],[47,0,49,5],[51,0,51,5]]}
["Northern California Conference"]
["Educator Monthly Report"]
["Email to: payroll@nccsda.com     -     P.O. Box 619015, Roseville, CA 95661"]
[]
["Name:",{"$f":"Jan!B5","v":"Enter name here"},null,null,null,"June 2024\nDue July 3rd"]
["Address:",{"$f":"Jan!B6","v":0}]
[]
["Best way to contact you:",null,null,null,null,"Revised Report"]
["Phone:",{"$f":"Jan!B9","v":0}]
["Email:",{"$f":"Jan!B10","v":"Enter email here"}]
["Please notify HR (916-886-5698) of any change in address or phone #"]
[]
[null,"Date","Description","Vacation Day","Sick Day"]
[null,"1 - Sat",null,{"$f":"IF(C14=\"Vacation\",1,0)","v":0},{"$f":"IF(C14=\"Sick Day\",1,0)","v":0},null,null,null,"Worked"]
[null,"2 - Sun",null,{"$f":"IF(C15=\"Vacation\",1,0)","v":0},{"$f":"IF(C15=\"Sick Day\",1,0)","v":0},null,null,null,"Day Off"]
[null,"3 - Mon",null,0,0,null,null,null,"Vacation"]
[null,"4 - Tues",null,0,0,null,null,null,"Sick Day"]
[null,"5 - Wed",null,0,0,null,null,null,"Holiday"]
[null,"6 - Thurs",null,0,0]
[null,"7 - Fri",null,0,0]
[null,"8 - Sat",null,0,0]
[null,"9 - Sun",null,0,0]
[null,"10 - Mon",null,0,0]
[null,"11 - Tues",null,0,0]
[null,"12 - Wed",null,0,0]
[null,"13 - Thurs",null,0,0]
[null,"14 - Fri",null,0,0]
[null,"15 - Sat",null,0,0]
[null,"16 - Sun",null,0,0]
[null,"17 - Mon",null,0,0]
[null,"18 - Tues",null,0,0]
[null,"19 - Wed",null,0,0]
[null,"20 - Thurs",null,0,0]
[null,"21 - Fri",null,0,0]
[null,"22 - Sat",null,0,0]
[null,"23 - Sun",null,0,0]
[null,"24 - Mon",null,0,0]
[null,"25 - Tues",null,0,0]
[null,"26 - Wed",null,0,0]
[null,"27 - Thurs",null,0,0]
[null,"28 - Fri",null,0,0]
[null,"29 - Sat",null,0,0]
[null,"30 - Sun",null,0,0]
[]
[null,"TOTALS",null,{"$f":"SUM(D14:D44)","v":0},{"$f":"SUM(E14:E44)","v":0}]
[]
["Comments: "]
[]
[]
[]
[]
["OFFICE USE ONLY"]
["41000) Vacation Time",null,{"$f":"D45","v":0},"Sick Days",{"$f":"E45","v":0}]

{"sheet":"July","index":7,"n_rows":53,"n_cols":9,"rows_kept":53,"cut":false,"hidden":false,"merged":[[0,0,0,5],[1,0,1,5],[2,0,2,5],[4,1,4,3],[4,5,5,5],[5,1,5,3],[52,0,52,1],[8,1,8,3],[9,1,9,3],[44,1,44,2],[46,0,46,5],[47,0,49,5],[51,0,51,5]]}
["Northern California Conference"]
["Educator Monthly Report"]
["Email to: payroll@nccsda.com     -     P.O. Box 619015, Roseville, CA 95661"]
[]
["Name:",{"$f":"Jan!B5","v":"Enter name here"},null,null,null,"July 2024\nDue August 3rd"]
["Address:",{"$f":"Jan!B6","v":0}]
[]
["Best way to contact you:",null,null,null,null,"Revised Report"]
["Phone:",{"$f":"Jan!B9","v":0}]
["Email:",{"$f":"Jan!B10","v":"Enter email here"}]
["Please notify HR (916-886-5698) of any change in address or phone #"]
[]
[null,"Date","Description","Vacation Day","Sick Day"]
[null,"1 - Mon",null,{"$f":"IF(C14=\"Vacation\",1,0)","v":0},{"$f":"IF(C14=\"Sick Day\",1,0)","v":0},null,null,null,"Worked"]
[null,"2 - Tues",null,{"$f":"IF(C15=\"Vacation\",1,0)","v":0},{"$f":"IF(C15=\"Sick Day\",1,0)","v":0},null,null,null,"Day Off"]
[null,"3 - Wed",null,0,0,null,null,null,"Vacation"]
[null,"4 - Thurs",null,0,0,null,null,null,"Sick Day"]
[null,"5 - Fri",null,0,0,null,null,null,"Holiday"]
[null,"6 - Sat",null,0,0]
[null,"7 - Sun",null,0,0]
[null,"8 - Mon",null,0,0]
[null,"9 - Tues",null,0,0]
[null,"10 - Wed",null,0,0]
[null,"11 - Thurs",null,0,0]
[null,"12 - Fri",null,0,0]
[null,"13 - Sat",null,0,0]
[null,"14 - Sun",null,0,0]
[null,"15 - Mon",null,0,0]
[null,"16 - Tues",null,0,0]
[null,"17 - Wed",null,0,0]
[null,"18 - Thurs",null,0,0]
[null,"19 - Fri",null,0,0]
[null,"20 - Sat",null,0,0]
[null,"21 - Sun",null,0,0]
[null,"22 - Mon",null,0,0]
[null,"23 - Tues",null,0,0]
[null,"24 - Wed",null,0,0]
[null,"25 - Thurs",null,0,0]
[null,"26 - Fri",null,0,0]
[null,"27 - Sat",null,0,0]
[null,"28 - Sun",null,0,0]
[null,"29 - Mon",null,0,0]
[null,"30 - Tues",null,{"$f":"IF(C43=\"Vacation\",1,0)","v":0},{"$f":"IF(C43=\"Sick Day\",1,0)","v":0}]
[null,"31 - Wed",null,{"$f":"IF(C44=\"Vacation\",1,0)","v":0},{"$f":"IF(C44=\"Sick Day\",1,0)","v":0}]
[null,"TOTALS",null,{"$f":"SUM(D14:D44)","v":0},{"$f":"SUM(E14:E44)","v":0}]
[]
["Comments: "]
[]
[]
[]
[]
["OFFICE USE ONLY"]
["41000) Vacation Time",null,{"$f":"D45","v":0},"Sick Days",{"$f":"E45","v":0}]

{"sheet":"Aug","index":8,"n_rows":53,"n_cols":9,"rows_kept":53,"cut":false,"hidden":false,"merged":[[0,0,0,5],[1,0,1,5],[2,0,2,5],[4,1,4,3],[4,5,5,5],[5,1,5,3],[52,0,52,1],[8,1,8,3],[9,1,9,3],[44,1,44,2],[46,0,46,5],[47,0,49,5],[51,0,51,5]]}
["Northern California Conference"]
["Educator Monthly Report"]
["Email to: payroll@nccsda.com     -     P.O. Box 619015, Roseville, CA 95661"]
[]
["Name:",{"$f":"Jan!B5","v":"Enter name here"},null,null,null,"August 2024\nDue September 3rd"]
["Address:",{"$f":"Jan!B6","v":0}]
[]
["Best way to contact you:",null,null,null,null,"Revised Report"]
["Phone:",{"$f":"Jan!B9","v":0}]
["Email:",{"$f":"Jan!B10","v":"Enter email here"}]
["Please notify HR (916-886-5698) of any change in address or phone #"]
[]
[null,"Date","Description","Vacation Day","Sick Day"]
[null,"1 - Thurs",null,{"$f":"IF(C14=\"Vacation\",1,0)","v":0},{"$f":"IF(C14=\"Sick Day\",1,0)","v":0},null,null,null,"Worked"]
[null,"2 - Fri",null,{"$f":"IF(C15=\"Vacation\",1,0)","v":0},{"$f":"IF(C15=\"Sick Day\",1,0)","v":0},null,null,null,"Day Off"]
[null,"3 - Sat",null,0,0,null,null,null,"Vacation"]
[null,"4 - Sun",null,0,0,null,null,null,"Sick Day"]
[null,"5 - Mon",null,0,0,null,null,null,"Holiday"]
[null,"6 - Tues",null,0,0]
[null,"7 - Wed",null,0,0]
[null,"8 - Thurs",null,0,0]
[null,"9 - Fri",null,0,0]
[null,"10 - Sat",null,0,0]
[null,"11 - Sun",null,0,0]
[null,"12 - Mon",null,0,0]
[null,"13 - Tues",null,0,0]
[null,"14 - Wed",null,0,0]
[null,"15 - Thurs",null,0,0]
[null,"16 - Fri",null,0,0]
[null,"17 - Sat",null,0,0]
[null,"18 - Sun",null,0,0]
[null,"19 - Mon",null,0,0]
[null,"20 - Tues",null,0,0]
[null,"21 - Wed",null,0,0]
[null,"22 - Thurs",null,0,0]
[null,"23 - Fri",null,0,0]
[null,"24 - Sat",null,0,0]
[null,"25 - Sun",null,0,0]
[null,"26 - Mon",null,0,0]
[null,"27 - Tues",null,0,0]
[null,"28 - Wed",null,0,0]
[null,"29 - Thurs",null,0,0]
[null,"30 - Fri",null,{"$f":"IF(C43=\"Vacation\",1,0)","v":0},{"$f":"IF(C43=\"Sick Day\",1,0)","v":0}]
[null,"31 - Sat",null,{"$f":"IF(C44=\"Vacation\",1,0)","v":0},{"$f":"IF(C44=\"Sick Day\",1,0)","v":0}]
[null,"TOTALS",null,{"$f":"SUM(D14:D44)","v":0},{"$f":"SUM(E14:E44)","v":0}]
[]
["Comments: "]
[]
[]
[]
[]
["OFFICE USE ONLY"]
["41000) Vacation Time",null,{"$f":"D45","v":0},"Sick Days",{"$f":"E45","v":0}]

{"sheet":"Sept","index":9,"n_rows":53,"n_cols":9,"rows_kept":53,"cut":false,"hidden":false,"merged":[[0,0,0,5],[1,0,1,5],[2,0,2,5],[4,1,4,3],[4,5,5,5],[5,1,5,3],[52,0,52,1],[8,1,8,3],[9,1,9,3],[44,1,44,2],[46,0,46,5],[47,0,49,5],[51,0,51,5]]}
["Northern California Conference"]
["Educator Monthly Report"]
["Email to: payroll@nccsda.com     -     P.O. Box 619015, Roseville, CA 95661"]
[]
["Name:",{"$f":"Jan!B5","v":"Enter name here"},null,null,null,"September 2024\nDue October 3rd"]
["Address:",{"$f":"Jan!B6","v":0}]
[]
["Best way to contact you:",null,null,null,null,"Revised Report"]
["Phone:",{"$f":"Jan!B9","v":0}]
["Email:",{"$f":"Jan!B10","v":"Enter email here"}]
["Please notify HR (916-886-5698) of any change in address or phone #"]
[]
[null,"Date","Description","Vacation Day","Sick Day"]
[null,"1 - Sun",null,{"$f":"IF(C14=\"Vacation\",1,0)","v":0},{"$f":"IF(C14=\"Sick Day\",1,0)","v":0},null,null,null,"Worked"]
[null,"2 - Mon",null,{"$f":"IF(C15=\"Vacation\",1,0)","v":0},{"$f":"IF(C15=\"Sick Day\",1,0)","v":0},null,null,null,"Day Off"]
[null,"3 - Tues",null,0,0,null,null,null,"Vacation"]
[null,"4 - Wed",null,0,0,null,null,null,"Sick Day"]
[null,"5 - Thurs",null,0,0,null,null,null,"Holiday"]
[null,"6 - Fri",null,0,0]
[null,"7 - Sat",null,0,0]
[null,"8 - Sun",null,0,0]
[null,"9 - Mon",null,0,0]
[null,"10 - Tues",null,0,0]
[null,"11 - Wed",null,0,0]
[null,"12 - Thurs",null,0,0]
[null,"13 - Fri",null,0,0]
[null,"14 - Sat",null,0,0]
[null,"15 - Sun",null,0,0]
[null,"16 - Mon",null,0,0]
[null,"17 - Tues",null,0,0]
[null,"18 - Wed",null,0,0]
[null,"19 - Thurs",null,0,0]
[null,"20 - Fri",null,0,0]
[null,"21 - Sat",null,0,0]
[null,"22 - Sun",null,0,0]
[null,"23 - Mon",null,0,0]
[null,"24 - Tues",null,0,0]
[null,"25 - Wed",null,0,0]
[null,"26 - Thurs",null,0,0]
[null,"27 - Fri",null,0,0]
[null,"28 - Sat",null,0,0]
[null,"29 - Sun",null,0,0]
[null,"30 - Mon",null,{"$f":"IF(C43=\"Vacation\",1,0)","v":0},{"$f":"IF(C43=\"Sick Day\",1,0)","v":0}]
[]
[null,"TOTALS",null,{"$f":"SUM(D14:D44)","v":0},{"$f":"SUM(E14:E44)","v":0}]
[]
["Comments: "]
[]
[]
[]
[]
["OFFICE USE ONLY"]
["41000) Vacation Time",null,{"$f":"D45","v":0},"Sick Days",{"$f":"E45","v":0}]

{"sheet":"Oct","index":10,"n_rows":53,"n_cols":9,"rows_kept":53,"cut":false,"hidden":false,"merged":[[0,0,0,5],[1,0,1,5],[2,0,2,5],[4,1,4,3],[4,5,5,5],[5,1,5,3],[52,0,52,1],[8,1,8,3],[9,1,9,3],[44,1,44,2],[46,0,46,5],[47,0,49,5],[51,0,51,5]]}
["Northern California Conference"]
["Educator Monthly Report"]
["Email to: payroll@nccsda.com     -     P.O. Box 619015, Roseville, CA 95661"]
[]
["Name:",{"$f":"Jan!B5","v":"Enter name here"},null,null,null,"October 2024\nDue November 3rd"]
["Address:",{"$f":"Jan!B6","v":0}]
[]
["Best way to contact you:",null,null,null,null,"Revised Report"]
["Phone:",{"$f":"Jan!B9","v":0}]
["Email:",{"$f":"Jan!B10","v":"Enter email here"}]
["Please notify HR (916-886-5698) of any change in address or phone #"]
[]
[null,"Date","Description","Vacation Day","Sick Day"]
[null,"1 - Tues",null,{"$f":"IF(C14=\"Vacation\",1,0)","v":0},{"$f":"IF(C14=\"Sick Day\",1,0)","v":0},null,null,null,"Worked"]
[null,"2 - Wed",null,{"$f":"IF(C15=\"Vacation\",1,0)","v":0},{"$f":"IF(C15=\"Sick Day\",1,0)","v":0},null,null,null,"Day Off"]
[null,"3 - Thurs",null,0,0,null,null,null,"Vacation"]
[null,"4 - Fri",null,0,0,null,null,null,"Sick Day"]
[null,"5 - Sat",null,0,0,null,null,null,"Holiday"]
[null,"6 - Sun",null,0,0]
[null,"7 - Mon",null,0,0]
[null,"8 - Tues",null,0,0]
[null,"9 - Wed",null,0,0]
[null,"10 - Thurs",null,0,0]
[null,"11 - Fri",null,0,0]
[null,"12 - Sat",null,0,0]
[null,"13 - Sun",null,0,0]
[null,"14 - Mon",null,0,0]
[null,"15 - Tues",null,0,0]
[null,"16 - Wed",null,0,0]
[null,"17 - Thurs",null,0,0]
[null,"18 - Fri",null,0,0]
[null,"19 - Sat",null,0,0]
[null,"20 - Sun",null,0,0]
[null,"21 - Mon",null,0,0]
[null,"22 - Tues",null,0,0]
[null,"23 - Wed",null,0,0]
[null,"24 - Thurs",null,0,0]
[null,"25 - Fri",null,0,0]
[null,"26 - Sat",null,0,0]
[null,"27 - Sun",null,0,0]
[null,"28 - Mon",null,0,0]
[null,"29 - Tues",null,0,0]
[null,"30 - Wed",null,{"$f":"IF(C43=\"Vacation\",1,0)","v":0},{"$f":"IF(C43=\"Sick Day\",1,0)","v":0}]
[null,"31 - Thurs",null,{"$f":"IF(C44=\"Vacation\",1,0)","v":0},{"$f":"IF(C44=\"Sick Day\",1,0)","v":0}]
[null,"TOTALS",null,{"$f":"SUM(D14:D44)","v":0},{"$f":"SUM(E14:E44)","v":0}]
[]
["Comments: "]
[]
[]
[]
[]
["OFFICE USE ONLY"]
["41000) Vacation Time",null,{"$f":"D45","v":0},"Sick Days",{"$f":"E45","v":0}]

{"sheet":"Nov","index":11,"n_rows":53,"n_cols":9,"rows_kept":53,"cut":false,"hidden":false,"merged":[[0,0,0,5],[1,0,1,5],[2,0,2,5],[4,1,4,3],[4,5,5,5],[5,1,5,3],[52,0,52,1],[8,1,8,3],[9,1,9,3],[44,1,44,2],[46,0,46,5],[47,0,49,5],[51,0,51,5]]}
["Northern California Conference"]
["Educator Monthly Report"]
["Email to: payroll@nccsda.com     -     P.O. Box 619015, Roseville, CA 95661"]
[]
["Name:",{"$f":"Jan!B5","v":"Enter name here"},null,null,null,"November 2024\nDue December 3rd"]
["Address:",{"$f":"Jan!B6","v":0}]
[]
["Best way to contact you:",null,null,null,null,"Revised Report"]
["Phone:",{"$f":"Jan!B9","v":0}]
["Email:",{"$f":"Jan!B10","v":"Enter email here"}]
["Please notify HR (916-886-5698) of any change in address or phone #"]
[]
[null,"Date","Description","Vacation Day","Sick Day"]
[null,"1 - Fri",null,{"$f":"IF(C14=\"Vacation\",1,0)","v":0},{"$f":"IF(C14=\"Sick Day\",1,0)","v":0},null,null,null,"Worked"]
[null,"2 - Sat",null,{"$f":"IF(C15=\"Vacation\",1,0)","v":0},{"$f":"IF(C15=\"Sick Day\",1,0)","v":0},null,null,null,"Day Off"]
[null,"3 - Sun",null,0,0,null,null,null,"Vacation"]
[null,"4 - Mon",null,0,0,null,null,null,"Sick Day"]
[null,"5 - Tues",null,0,0,null,null,null,"Holiday"]
[null,"6 - Wed",null,0,0]
[null,"7 - Thurs",null,0,0]
[null,"8 - Fri",null,0,0]
[null,"9 - Sat",null,0,0]
[null,"10 - Sun",null,0,0]
[null,"11 - Mon",null,0,0]
[null,"12 - Tues",null,0,0]
[null,"13 - Wed",null,0,0]
[null,"14 - Thurs",null,0,0]
[null,"15 - Fri",null,0,0]
[null,"16 - Sat",null,0,0]
[null,"17 - Sun",null,0,0]
[null,"18 - Mon",null,0,0]
[null,"19 - Tues",null,0,0]
[null,"20 - Wed",null,0,0]
[null,"21 - Thurs",null,0,0]
[null,"22 - Fri",null,0,0]
[null,"23 - Sat",null,0,0]
[null,"24 - Sun",null,0,0]
[null,"25 - Mon",null,0,0]
[null,"26 - Tues",null,0,0]
[null,"27 - Wed",null,0,0]
[null,"28 - Thurs",null,0,0]
[null,"29 - Fri",null,0,0]
[null,"30 - Sat",null,{"$f":"IF(C43=\"Vacation\",1,0)","v":0},{"$f":"IF(C43=\"Sick Day\",1,0)","v":0}]
[]
[null,"TOTALS",null,{"$f":"SUM(D14:D44)","v":0},{"$f":"SUM(E14:E44)","v":0}]
[]
["Comments: "]
[]
[]
[]
[]
["OFFICE USE ONLY"]
["41000) Vacation Time",null,{"$f":"D45","v":0},"Sick Days",{"$f":"E45","v":0}]

{"sheet":"Dec","index":12,"n_rows":53,"n_cols":9,"rows_kept":53,"cut":false,"hidden":false,"merged":[[0,0,0,5],[1,0,1,5],[2,0,2,5],[4,1,4,3],[4,5,5,5],[5,1,5,3],[52,0,52,1],[8,1,8,3],[9,1,9,3],[44,1,44,2],[46,0,46,5],[47,0,49,5],[51,0,51,5]]}
["Northern California Conference"]
["Educator Monthly Report"]
["Email to: payroll@nccsda.com     -     P.O. Box 619015, Roseville, CA 95661"]
[]
["Name:",{"$f":"Jan!B5","v":"Enter name here"},null,null,null,"December 2024\nDue January 3rd, 2025"]
["Address:",{"$f":"Jan!B6","v":0}]
[]
["Best way to contact you:",null,null,null,null,"Revised Report"]
["Phone:",{"$f":"Jan!B9","v":0}]
["Email:",{"$f":"Jan!B10","v":"Enter email here"}]
["Please notify HR (916-886-5698) of any change in address or phone #"]
[]
[null,"Date","Description","Vacation Day","Sick Day"]
[null,"1 - Sun",null,{"$f":"IF(C14=\"Vacation\",1,0)","v":0},{"$f":"IF(C14=\"Sick Day\",1,0)","v":0},null,null,null,"Worked"]
[null,"2 - Mon",null,{"$f":"IF(C15=\"Vacation\",1,0)","v":0},{"$f":"IF(C15=\"Sick Day\",1,0)","v":0},null,null,null,"Day Off"]
[null,"3 - Tues",null,0,0,null,null,null,"Vacation"]
[null,"4 - Wed",null,0,0,null,null,null,"Sick Day"]
[null,"5 - Thurs",null,0,0,null,null,null,"Holiday"]
[null,"6 - Fri",null,0,0]
[null,"7 - Sat",null,0,0]
[null,"8 - Sun",null,0,0]
[null,"9 - Mon",null,0,0]
[null,"10 - Tues",null,0,0]
[null,"11 - Wed",null,0,0]
[null,"12 - Thurs",null,0,0]
[null,"13 - Fri",null,0,0]
[null,"14 - Sat",null,0,0]
[null,"15 - Sun",null,0,0]
[null,"16 - Mon",null,0,0]
[null,"17 - Tues",null,0,0]
[null,"18 - Wed",null,0,0]
[null,"19 - Thurs",null,0,0]
[null,"20 - Fri",null,0,0]
[null,"21 - Sat",null,0,0]
[null,"22 - Sun",null,0,0]
[null,"23 - Mon",null,0,0]
[null,"24 - Tues",null,0,0]
[null,"25 - Wed",null,0,0]
[null,"26 - Thurs",null,0,0]
[null,"27 - Fri",null,0,0]
[null,"28 - Sat",null,0,0]
[null,"29 - Sun",null,0,0]
[null,"30 - Mon",null,{"$f":"IF(C43=\"Vacation\",1,0)","v":0},{"$f":"IF(C43=\"Sick Day\",1,0)","v":0}]
[null,"31 - Tues",null,{"$f":"IF(C44=\"Vacation\",1,0)","v":0},{"$f":"IF(C44=\"Sick Day\",1,0)","v":0}]
[null,"TOTALS",null,{"$f":"SUM(D14:D44)","v":0},{"$f":"SUM(E14:E44)","v":0}]
[]
["Comments: "]
[]
[]
[]
[]
["OFFICE USE ONLY"]
["41000) Vacation Time",null,{"$f":"D45","v":0},"Sick Days",{"$f":"E45","v":0}]